BEGIN:VCALENDAR
VERSION:2.0
PRODID:-//Plone.org//NONSGML plone.app.event//EN
X-WR-TIMEZONE:US/Central
BEGIN:VEVENT
SUMMARY:Wordle Wednesday
DTSTART;TZID=US/Central:20220413T100000
DTEND;TZID=US/Central:20220413T110000
DTSTAMP:20260420T172523Z
UID:841732c7d5d34d9c9326e2eada546393@saas_stack_varnish:6080
CREATED:20220301T194115Z
DESCRIPTION:Wordle\, coffee\, snacks\, socialize
LAST-MODIFIED:20220329T184545Z
LOCATION:Jerseyville Public Library
URL:https://www.jerseyvillelibrary.org/news-events/wordle-wednesday
END:VEVENT
BEGIN:VTIMEZONE
TZID:US/Central
X-LIC-LOCATION:US/Central
BEGIN:DAYLIGHT
DTSTART:20220313T030000
TZNAME:CDT
TZOFFSETFROM:-0600
TZOFFSETTO:-0500
END:DAYLIGHT
END:VTIMEZONE
END:VCALENDAR
